BEGIN:VCALENDAR
VERSION:2.0
PRODID:-//Dublin-Laurens County Recreation Authority - ECPv6.15.20//NONSGML v1.0//EN
CALSCALE:GREGORIAN
METHOD:PUBLISH
X-WR-CALNAME:Dublin-Laurens County Recreation Authority
X-ORIGINAL-URL:https://www.dlcra.org
X-WR-CALDESC:Events for Dublin-Laurens County Recreation Authority
REFRESH-INTERVAL;VALUE=DURATION:PT1H
X-Robots-Tag:noindex
X-PUBLISHED-TTL:PT1H
BEGIN:VTIMEZONE
TZID:America/New_York
BEGIN:DAYLIGHT
TZOFFSETFROM:-0500
TZOFFSETTO:-0400
TZNAME:EDT
DTSTART:20230312T070000
END:DAYLIGHT
BEGIN:STANDARD
TZOFFSETFROM:-0400
TZOFFSETTO:-0500
TZNAME:EST
DTSTART:20231105T060000
END:STANDARD
BEGIN:DAYLIGHT
TZOFFSETFROM:-0500
TZOFFSETTO:-0400
TZNAME:EDT
DTSTART:20240310T070000
END:DAYLIGHT
BEGIN:STANDARD
TZOFFSETFROM:-0400
TZOFFSETTO:-0500
TZNAME:EST
DTSTART:20241103T060000
END:STANDARD
BEGIN:DAYLIGHT
TZOFFSETFROM:-0500
TZOFFSETTO:-0400
TZNAME:EDT
DTSTART:20250309T070000
END:DAYLIGHT
BEGIN:STANDARD
TZOFFSETFROM:-0400
TZOFFSETTO:-0500
TZNAME:EST
DTSTART:20251102T060000
END:STANDARD
END:VTIMEZONE
BEGIN:VEVENT
DTSTART;VALUE=DATE:20240817
DTEND;VALUE=DATE:20240819
DTSTAMP:20260419T094938
CREATED:20240806T135346Z
LAST-MODIFIED:20250213T190435Z
UID:4367-1723852800-1724025599@www.dlcra.org
SUMMARY:Turn 2 (Baseball)
DESCRIPTION:
URL:https://www.dlcra.org/event/turn-2-baseball/
LOCATION:Southern Pines Regional Park\, 575 Southern Pines Rd.\, Dublin\, GA\, 31021\, United States
CATEGORIES:General Event
END:VEVENT
BEGIN:VEVENT
DTSTART;VALUE=DATE:20240824
DTEND;VALUE=DATE:20240825
DTSTAMP:20260419T094938
CREATED:20240111T144911Z
LAST-MODIFIED:20240111T144911Z
UID:3351-1724457600-1724543999@www.dlcra.org
SUMMARY:USSSA Men's Softball
DESCRIPTION:
URL:https://www.dlcra.org/event/usssa-mens-softball/
LOCATION:GA
CATEGORIES:General Event
END:VEVENT
END:VCALENDAR