BEGIN:VCALENDAR
VERSION:2.0
PRODID:-//Dublin-Laurens County Recreation Authority - ECPv6.15.20//NONSGML v1.0//EN
CALSCALE:GREGORIAN
METHOD:PUBLISH
X-WR-CALNAME:Dublin-Laurens County Recreation Authority
X-ORIGINAL-URL:https://www.dlcra.org
X-WR-CALDESC:Events for Dublin-Laurens County Recreation Authority
REFRESH-INTERVAL;VALUE=DURATION:PT1H
X-Robots-Tag:noindex
X-PUBLISHED-TTL:PT1H
BEGIN:VTIMEZONE
TZID:America/New_York
BEGIN:DAYLIGHT
TZOFFSETFROM:-0500
TZOFFSETTO:-0400
TZNAME:EDT
DTSTART:20230312T070000
END:DAYLIGHT
BEGIN:STANDARD
TZOFFSETFROM:-0400
TZOFFSETTO:-0500
TZNAME:EST
DTSTART:20231105T060000
END:STANDARD
BEGIN:DAYLIGHT
TZOFFSETFROM:-0500
TZOFFSETTO:-0400
TZNAME:EDT
DTSTART:20240310T070000
END:DAYLIGHT
BEGIN:STANDARD
TZOFFSETFROM:-0400
TZOFFSETTO:-0500
TZNAME:EST
DTSTART:20241103T060000
END:STANDARD
BEGIN:DAYLIGHT
TZOFFSETFROM:-0500
TZOFFSETTO:-0400
TZNAME:EDT
DTSTART:20250309T070000
END:DAYLIGHT
BEGIN:STANDARD
TZOFFSETFROM:-0400
TZOFFSETTO:-0500
TZNAME:EST
DTSTART:20251102T060000
END:STANDARD
END:VTIMEZONE
BEGIN:VEVENT
DTSTART;VALUE=DATE:20240906
DTEND;VALUE=DATE:20240909
DTSTAMP:20260419T113347
CREATED:20240806T135608Z
LAST-MODIFIED:20250213T190450Z
UID:4369-1725580800-1725839999@www.dlcra.org
SUMMARY:TPSSA SR Adult Softball
DESCRIPTION:
URL:https://www.dlcra.org/event/tpssa-sr-adult-softball/
LOCATION:Southern Pines Regional Park\, 575 Southern Pines Rd.\, Dublin\, GA\, 31021\, United States
CATEGORIES:General Event
END:VEVENT
BEGIN:VEVENT
DTSTART;VALUE=DATE:20240914
DTEND;VALUE=DATE:20240916
DTSTAMP:20260419T113347
CREATED:20240806T140120Z
LAST-MODIFIED:20250213T190410Z
UID:4372-1726272000-1726444799@www.dlcra.org
SUMMARY:USSSA (Baseball)
DESCRIPTION:
URL:https://www.dlcra.org/event/usssa-baseball-6/
LOCATION:Southern Pines Regional Park\, 575 Southern Pines Rd.\, Dublin\, GA\, 31021\, United States
CATEGORIES:General Event
END:VEVENT
BEGIN:VEVENT
DTSTART;VALUE=DATE:20240921
DTEND;VALUE=DATE:20240922
DTSTAMP:20260419T113347
CREATED:20240920T194939Z
LAST-MODIFIED:20240920T194939Z
UID:4497-1726876800-1726963199@www.dlcra.org
SUMMARY:Literacy Event @ Pavilion
DESCRIPTION:
URL:https://www.dlcra.org/event/literacy-event-pavilion/
LOCATION:Southern Pines Regional Park\, 575 Southern Pines Rd.\, Dublin\, GA\, 31021\, United States
CATEGORIES:General Event
END:VEVENT
BEGIN:VEVENT
DTSTART;TZID=America/New_York:20240921T080000
DTEND;TZID=America/New_York:20240921T130000
DTSTAMP:20260419T113347
CREATED:20240920T193224Z
LAST-MODIFIED:20240920T194044Z
UID:4496-1726905600-1726923600@www.dlcra.org
SUMMARY:Pickleball Tournament 16/15 Round Robin
DESCRIPTION:
URL:https://www.dlcra.org/event/pickleball-tournament-16-15-round-robin/
LOCATION:Southern Pines Regional Park\, 575 Southern Pines Rd.\, Dublin\, GA\, 31021\, United States
CATEGORIES:General Event
END:VEVENT
BEGIN:VEVENT
DTSTART;VALUE=DATE:20240922
DTEND;VALUE=DATE:20240923
DTSTAMP:20260419T113347
CREATED:20240806T140721Z
LAST-MODIFIED:20240806T140721Z
UID:4375-1726963200-1727049599@www.dlcra.org
SUMMARY:Perfect Game
DESCRIPTION:
URL:https://www.dlcra.org/event/perfect-game-8/
LOCATION:Southern Pines Regional Park\, 575 Southern Pines Rd.\, Dublin\, GA\, 31021\, United States
CATEGORIES:General Event
END:VEVENT
BEGIN:VEVENT
DTSTART;VALUE=DATE:20240928
DTEND;VALUE=DATE:20240929
DTSTAMP:20260419T113347
CREATED:20240806T140913Z
LAST-MODIFIED:20240806T140913Z
UID:4376-1727481600-1727567999@www.dlcra.org
SUMMARY:USSSA (Softball)
DESCRIPTION:
URL:https://www.dlcra.org/event/usssa-softball/
LOCATION:Southern Pines Regional Park\, 575 Southern Pines Rd.\, Dublin\, GA\, 31021\, United States
CATEGORIES:General Event
END:VEVENT
END:VCALENDAR