BEGIN:VCALENDAR
VERSION:2.0
PRODID:-//Dublin-Laurens County Recreation Authority - ECPv6.15.20//NONSGML v1.0//EN
CALSCALE:GREGORIAN
METHOD:PUBLISH
X-ORIGINAL-URL:https://www.dlcra.org
X-WR-CALDESC:Events for Dublin-Laurens County Recreation Authority
REFRESH-INTERVAL;VALUE=DURATION:PT1H
X-Robots-Tag:noindex
X-PUBLISHED-TTL:PT1H
BEGIN:VTIMEZONE
TZID:America/New_York
BEGIN:DAYLIGHT
TZOFFSETFROM:-0500
TZOFFSETTO:-0400
TZNAME:EDT
DTSTART:20230312T070000
END:DAYLIGHT
BEGIN:STANDARD
TZOFFSETFROM:-0400
TZOFFSETTO:-0500
TZNAME:EST
DTSTART:20231105T060000
END:STANDARD
BEGIN:DAYLIGHT
TZOFFSETFROM:-0500
TZOFFSETTO:-0400
TZNAME:EDT
DTSTART:20240310T070000
END:DAYLIGHT
BEGIN:STANDARD
TZOFFSETFROM:-0400
TZOFFSETTO:-0500
TZNAME:EST
DTSTART:20241103T060000
END:STANDARD
BEGIN:DAYLIGHT
TZOFFSETFROM:-0500
TZOFFSETTO:-0400
TZNAME:EDT
DTSTART:20250309T070000
END:DAYLIGHT
BEGIN:STANDARD
TZOFFSETFROM:-0400
TZOFFSETTO:-0500
TZNAME:EST
DTSTART:20251102T060000
END:STANDARD
END:VTIMEZONE
BEGIN:VEVENT
DTSTART;VALUE=DATE:20241005
DTEND;VALUE=DATE:20241006
DTSTAMP:20260419T130948
CREATED:20240806T141116Z
LAST-MODIFIED:20240806T141116Z
UID:4377-1728086400-1728172799@www.dlcra.org
SUMMARY:Turn 2 (Baseball)
DESCRIPTION:
URL:https://www.dlcra.org/event/turn-2-baseball-2/
LOCATION:Southern Pines Regional Park\, 575 Southern Pines Rd.\, Dublin\, GA\, 31021\, United States
CATEGORIES:General Event
END:VEVENT
BEGIN:VEVENT
DTSTART;VALUE=DATE:20241012
DTEND;VALUE=DATE:20241013
DTSTAMP:20260419T130948
CREATED:20240806T141159Z
LAST-MODIFIED:20240806T141159Z
UID:4378-1728691200-1728777599@www.dlcra.org
SUMMARY:USFA (Softball)
DESCRIPTION:
URL:https://www.dlcra.org/event/usfa-softball-2/
LOCATION:Southern Pines Regional Park\, 575 Southern Pines Rd.\, Dublin\, GA\, 31021\, United States
CATEGORIES:General Event
END:VEVENT
BEGIN:VEVENT
DTSTART;VALUE=DATE:20241013
DTEND;VALUE=DATE:20241014
DTSTAMP:20260419T130948
CREATED:20240806T141226Z
LAST-MODIFIED:20240806T141226Z
UID:4379-1728777600-1728863999@www.dlcra.org
SUMMARY:Perfect Game
DESCRIPTION:
URL:https://www.dlcra.org/event/perfect-game-9/
LOCATION:Southern Pines Regional Park\, 575 Southern Pines Rd.\, Dublin\, GA\, 31021\, United States
CATEGORIES:General Event
END:VEVENT
BEGIN:VEVENT
DTSTART;VALUE=DATE:20241019
DTEND;VALUE=DATE:20241021
DTSTAMP:20260419T130948
CREATED:20240806T141310Z
LAST-MODIFIED:20240806T141310Z
UID:4380-1729296000-1729468799@www.dlcra.org
SUMMARY:USSSA (Baseball)
DESCRIPTION:
URL:https://www.dlcra.org/event/usssa-baseball-7/
LOCATION:Southern Pines Regional Park\, 575 Southern Pines Rd.\, Dublin\, GA\, 31021\, United States
CATEGORIES:General Event
END:VEVENT
BEGIN:VEVENT
DTSTART;VALUE=DATE:20241026
DTEND;VALUE=DATE:20241027
DTSTAMP:20260419T130948
CREATED:20240806T141446Z
LAST-MODIFIED:20240806T141446Z
UID:4381-1729900800-1729987199@www.dlcra.org
SUMMARY:USFA (Softball)
DESCRIPTION:
URL:https://www.dlcra.org/event/usfa-softball-3/
LOCATION:Southern Pines Regional Park\, 575 Southern Pines Rd.\, Dublin\, GA\, 31021\, United States
CATEGORIES:General Event
END:VEVENT
BEGIN:VEVENT
DTSTART;VALUE=DATE:20241026
DTEND;VALUE=DATE:20241028
DTSTAMP:20260419T130948
CREATED:20240806T141511Z
LAST-MODIFIED:20241023T141613Z
UID:4382-1729900800-1730073599@www.dlcra.org
SUMMARY:Perfect Game
DESCRIPTION:
URL:https://www.dlcra.org/event/perfect-game-10/
LOCATION:Southern Pines Regional Park\, 575 Southern Pines Rd.\, Dublin\, GA\, 31021\, United States
CATEGORIES:General Event
END:VEVENT
END:VCALENDAR