BEGIN:VCALENDAR
VERSION:2.0
PRODID:-//Dublin-Laurens County Recreation Authority - ECPv6.15.20//NONSGML v1.0//EN
CALSCALE:GREGORIAN
METHOD:PUBLISH
X-ORIGINAL-URL:https://www.dlcra.org
X-WR-CALDESC:Events for Dublin-Laurens County Recreation Authority
REFRESH-INTERVAL;VALUE=DURATION:PT1H
X-Robots-Tag:noindex
X-PUBLISHED-TTL:PT1H
BEGIN:VTIMEZONE
TZID:America/New_York
BEGIN:DAYLIGHT
TZOFFSETFROM:-0500
TZOFFSETTO:-0400
TZNAME:EDT
DTSTART:20240310T070000
END:DAYLIGHT
BEGIN:STANDARD
TZOFFSETFROM:-0400
TZOFFSETTO:-0500
TZNAME:EST
DTSTART:20241103T060000
END:STANDARD
BEGIN:DAYLIGHT
TZOFFSETFROM:-0500
TZOFFSETTO:-0400
TZNAME:EDT
DTSTART:20250309T070000
END:DAYLIGHT
BEGIN:STANDARD
TZOFFSETFROM:-0400
TZOFFSETTO:-0500
TZNAME:EST
DTSTART:20251102T060000
END:STANDARD
BEGIN:DAYLIGHT
TZOFFSETFROM:-0500
TZOFFSETTO:-0400
TZNAME:EDT
DTSTART:20260308T070000
END:DAYLIGHT
BEGIN:STANDARD
TZOFFSETFROM:-0400
TZOFFSETTO:-0500
TZNAME:EST
DTSTART:20261101T060000
END:STANDARD
END:VTIMEZONE
BEGIN:VEVENT
DTSTART;VALUE=DATE:20250201
DTEND;VALUE=DATE:20250202
DTSTAMP:20260421T055008
CREATED:20250103T161850Z
LAST-MODIFIED:20250103T161850Z
UID:4740-1738368000-1738454399@www.dlcra.org
SUMMARY:Legacy Sports Middle School Invitation
DESCRIPTION:
URL:https://www.dlcra.org/event/legacy-sports-middle-school-invitation/
LOCATION:Southern Pines Regional Park\, 575 Southern Pines Rd.\, Dublin\, GA\, 31021\, United States
CATEGORIES:General Event
END:VEVENT
BEGIN:VEVENT
DTSTART;TZID=America/New_York:20250213T000000
DTEND;TZID=America/New_York:20250213T000000
DTSTAMP:20260421T055008
CREATED:20250213T191930Z
LAST-MODIFIED:20250213T191930Z
UID:4823-1739404800-1739404800@www.dlcra.org
SUMMARY:Senior Bingo
DESCRIPTION:
URL:https://www.dlcra.org/event/senior-bingo-4/
LOCATION:GA
CATEGORIES:General Event
END:VEVENT
BEGIN:VEVENT
DTSTART;TZID=America/New_York:20250213T000000
DTEND;TZID=America/New_York:20250213T000000
DTSTAMP:20260421T055008
CREATED:20250213T191947Z
LAST-MODIFIED:20250213T191947Z
UID:4821-1739404800-1739404800@www.dlcra.org
SUMMARY:Senior Bingo
DESCRIPTION:
URL:https://www.dlcra.org/event/senior-bingo-5/
LOCATION:GA
CATEGORIES:General Event
END:VEVENT
END:VCALENDAR