BEGIN:VCALENDAR
VERSION:2.0
PRODID:-//Dublin-Laurens County Recreation Authority - ECPv6.15.20//NONSGML v1.0//EN
CALSCALE:GREGORIAN
METHOD:PUBLISH
X-WR-CALNAME:Dublin-Laurens County Recreation Authority
X-ORIGINAL-URL:https://www.dlcra.org
X-WR-CALDESC:Events for Dublin-Laurens County Recreation Authority
REFRESH-INTERVAL;VALUE=DURATION:PT1H
X-Robots-Tag:noindex
X-PUBLISHED-TTL:PT1H
BEGIN:VTIMEZONE
TZID:America/New_York
BEGIN:DAYLIGHT
TZOFFSETFROM:-0500
TZOFFSETTO:-0400
TZNAME:EDT
DTSTART:20240310T070000
END:DAYLIGHT
BEGIN:STANDARD
TZOFFSETFROM:-0400
TZOFFSETTO:-0500
TZNAME:EST
DTSTART:20241103T060000
END:STANDARD
BEGIN:DAYLIGHT
TZOFFSETFROM:-0500
TZOFFSETTO:-0400
TZNAME:EDT
DTSTART:20250309T070000
END:DAYLIGHT
BEGIN:STANDARD
TZOFFSETFROM:-0400
TZOFFSETTO:-0500
TZNAME:EST
DTSTART:20251102T060000
END:STANDARD
BEGIN:DAYLIGHT
TZOFFSETFROM:-0500
TZOFFSETTO:-0400
TZNAME:EDT
DTSTART:20260308T070000
END:DAYLIGHT
BEGIN:STANDARD
TZOFFSETFROM:-0400
TZOFFSETTO:-0500
TZNAME:EST
DTSTART:20261101T060000
END:STANDARD
END:VTIMEZONE
BEGIN:VEVENT
DTSTART;VALUE=DATE:20250405
DTEND;VALUE=DATE:20250406
DTSTAMP:20260421T083012
CREATED:20250212T214123Z
LAST-MODIFIED:20250213T214925Z
UID:4834-1743811200-1743897599@www.dlcra.org
SUMMARY:Pickleball Tournament
DESCRIPTION:2025 Pickleball’s 5th SHAMROCK SMASH
URL:https://www.dlcra.org/event/pickleball-tournament-2/
LOCATION:Southern Pines Regional Park\, 575 Southern Pines Rd.\, Dublin\, GA\, 31021\, United States
CATEGORIES:General Event
END:VEVENT
BEGIN:VEVENT
DTSTART;VALUE=DATE:20250405
DTEND;VALUE=DATE:20250406
DTSTAMP:20260421T083012
CREATED:20250212T214740Z
LAST-MODIFIED:20250213T190051Z
UID:4838-1743811200-1743897599@www.dlcra.org
SUMMARY:USSSA/Baseball
DESCRIPTION:For information about USSSA\, please click on the link below. \nhttps://usssa.com/home/
URL:https://www.dlcra.org/event/usssa-baseball-11/
LOCATION:Southern Pines Regional Park\, 575 Southern Pines Rd.\, Dublin\, GA\, 31021\, United States
CATEGORIES:General Event
END:VEVENT
BEGIN:VEVENT
DTSTART;VALUE=DATE:20250412
DTEND;VALUE=DATE:20250414
DTSTAMP:20260421T083012
CREATED:20250213T185448Z
LAST-MODIFIED:20250407T195617Z
UID:4849-1744416000-1744588799@www.dlcra.org
SUMMARY:USSSA Softball/Fast Pitch
DESCRIPTION:8u-18u \n 
URL:https://www.dlcra.org/event/usfa-4/
LOCATION:Southern Pines Regional Park\, 575 Southern Pines Rd.\, Dublin\, GA\, 31021\, United States
CATEGORIES:General Event
END:VEVENT
BEGIN:VEVENT
DTSTART;VALUE=DATE:20250419
DTEND;VALUE=DATE:20250420
DTSTAMP:20260421T083012
CREATED:20250213T192647Z
LAST-MODIFIED:20250213T192653Z
UID:4851-1745020800-1745107199@www.dlcra.org
SUMMARY:Perfect Game
DESCRIPTION:
URL:https://www.dlcra.org/event/perfect-game-14/
LOCATION:Southern Pines Regional Park\, 575 Southern Pines Rd.\, Dublin\, GA\, 31021\, United States
CATEGORIES:General Event
END:VEVENT
BEGIN:VEVENT
DTSTART;VALUE=DATE:20250426
DTEND;VALUE=DATE:20250427
DTSTAMP:20260421T083012
CREATED:20250213T202752Z
LAST-MODIFIED:20250213T202752Z
UID:4858-1745625600-1745711999@www.dlcra.org
SUMMARY:Perfect Game
DESCRIPTION:
URL:https://www.dlcra.org/event/perfect-game-15/
LOCATION:Southern Pines Regional Park\, 575 Southern Pines Rd.\, Dublin\, GA\, 31021\, United States
CATEGORIES:General Event
END:VEVENT
END:VCALENDAR