BEGIN:VCALENDAR
VERSION:2.0
PRODID:-//Dublin-Laurens County Recreation Authority - ECPv6.15.20//NONSGML v1.0//EN
CALSCALE:GREGORIAN
METHOD:PUBLISH
X-ORIGINAL-URL:https://www.dlcra.org
X-WR-CALDESC:Events for Dublin-Laurens County Recreation Authority
REFRESH-INTERVAL;VALUE=DURATION:PT1H
X-Robots-Tag:noindex
X-PUBLISHED-TTL:PT1H
BEGIN:VTIMEZONE
TZID:America/New_York
BEGIN:DAYLIGHT
TZOFFSETFROM:-0500
TZOFFSETTO:-0400
TZNAME:EDT
DTSTART:20250309T070000
END:DAYLIGHT
BEGIN:STANDARD
TZOFFSETFROM:-0400
TZOFFSETTO:-0500
TZNAME:EST
DTSTART:20251102T060000
END:STANDARD
BEGIN:DAYLIGHT
TZOFFSETFROM:-0500
TZOFFSETTO:-0400
TZNAME:EDT
DTSTART:20260308T070000
END:DAYLIGHT
BEGIN:STANDARD
TZOFFSETFROM:-0400
TZOFFSETTO:-0500
TZNAME:EST
DTSTART:20261101T060000
END:STANDARD
BEGIN:DAYLIGHT
TZOFFSETFROM:-0500
TZOFFSETTO:-0400
TZNAME:EDT
DTSTART:20270314T070000
END:DAYLIGHT
BEGIN:STANDARD
TZOFFSETFROM:-0400
TZOFFSETTO:-0500
TZNAME:EST
DTSTART:20271107T060000
END:STANDARD
END:VTIMEZONE
BEGIN:VEVENT
DTSTART;TZID=America/New_York:20260402T090000
DTEND;TZID=America/New_York:20260402T130000
DTSTAMP:20260419T094851
CREATED:20260217T190823Z
LAST-MODIFIED:20260217T190911Z
UID:6044-1775120400-1775134800@www.dlcra.org
SUMMARY:Buddy Walk
DESCRIPTION:
URL:https://www.dlcra.org/event/buddy-walk/
LOCATION:Southern Pines Regional Park\, 575 Southern Pines Rd.\, Dublin\, GA\, 31021\, United States
CATEGORIES:General Event
END:VEVENT
BEGIN:VEVENT
DTSTART;VALUE=DATE:20260404
DTEND;VALUE=DATE:20260405
DTSTAMP:20260419T094851
CREATED:20251216T211112Z
LAST-MODIFIED:20251216T211112Z
UID:5934-1775260800-1775347199@www.dlcra.org
SUMMARY:ORHA
DESCRIPTION:
URL:https://www.dlcra.org/event/orha-10/
LOCATION:Southern Pines Regional Park\, 575 Southern Pines Rd.\, Dublin\, GA\, 31021\, United States
CATEGORIES:General Event
END:VEVENT
BEGIN:VEVENT
DTSTART;VALUE=DATE:20260404
DTEND;VALUE=DATE:20260405
DTSTAMP:20260419T094851
CREATED:20251216T211151Z
LAST-MODIFIED:20251216T211151Z
UID:5935-1775260800-1775347199@www.dlcra.org
SUMMARY:Perfect Game
DESCRIPTION:
URL:https://www.dlcra.org/event/perfect-game-25/
LOCATION:Southern Pines Regional Park\, 575 Southern Pines Rd.\, Dublin\, GA\, 31021\, United States
CATEGORIES:General Event
END:VEVENT
BEGIN:VEVENT
DTSTART;VALUE=DATE:20260411
DTEND;VALUE=DATE:20260413
DTSTAMP:20260419T094851
CREATED:20251216T211215Z
LAST-MODIFIED:20251216T211215Z
UID:5936-1775865600-1776038399@www.dlcra.org
SUMMARY:Perfect Game
DESCRIPTION:
URL:https://www.dlcra.org/event/perfect-game-26/
LOCATION:Southern Pines Regional Park\, 575 Southern Pines Rd.\, Dublin\, GA\, 31021\, United States
CATEGORIES:General Event
END:VEVENT
BEGIN:VEVENT
DTSTART;VALUE=DATE:20260411
DTEND;VALUE=DATE:20260412
DTSTAMP:20260419T094851
CREATED:20260408T124107Z
LAST-MODIFIED:20260408T130904Z
UID:6246-1775865600-1775951999@www.dlcra.org
SUMMARY:USSSA-Joe Wilson-Softball
DESCRIPTION:
URL:https://www.dlcra.org/event/usssa-joe-wilson-softball/
LOCATION:Southern Pines Regional Park\, 575 Southern Pines Rd.\, Dublin\, GA\, 31021\, United States
CATEGORIES:General Event
END:VEVENT
BEGIN:VEVENT
DTSTART;VALUE=DATE:20260418
DTEND;VALUE=DATE:20260419
DTSTAMP:20260419T094851
CREATED:20251216T211415Z
LAST-MODIFIED:20251216T211415Z
UID:5939-1776470400-1776556799@www.dlcra.org
SUMMARY:USSSA-Joe Wilson
DESCRIPTION:
URL:https://www.dlcra.org/event/usssa-joe-wilson-4/
LOCATION:Southern Pines Regional Park\, 575 Southern Pines Rd.\, Dublin\, GA\, 31021\, United States
CATEGORIES:General Event
END:VEVENT
BEGIN:VEVENT
DTSTART;VALUE=DATE:20260418
DTEND;VALUE=DATE:20260419
DTSTAMP:20260419T094851
CREATED:20260408T125216Z
LAST-MODIFIED:20260408T125216Z
UID:6247-1776470400-1776556799@www.dlcra.org
SUMMARY:Legion Soccer Tournament
DESCRIPTION:
URL:https://www.dlcra.org/event/legion-soccer-tournament/
LOCATION:Southern Pines Regional Park\, 575 Southern Pines Rd.\, Dublin\, GA\, 31021\, United States
CATEGORIES:General Event
END:VEVENT
BEGIN:VEVENT
DTSTART;VALUE=DATE:20260425
DTEND;VALUE=DATE:20260427
DTSTAMP:20260419T094851
CREATED:20251216T211241Z
LAST-MODIFIED:20251216T211241Z
UID:5937-1777075200-1777247999@www.dlcra.org
SUMMARY:Perfect Game
DESCRIPTION:
URL:https://www.dlcra.org/event/perfect-game-27/
LOCATION:Southern Pines Regional Park\, 575 Southern Pines Rd.\, Dublin\, GA\, 31021\, United States
CATEGORIES:General Event
END:VEVENT
BEGIN:VEVENT
DTSTART;VALUE=DATE:20260502
DTEND;VALUE=DATE:20260504
DTSTAMP:20260419T094851
CREATED:20260216T192553Z
LAST-MODIFIED:20260216T192901Z
UID:6041-1777680000-1777852799@www.dlcra.org
SUMMARY:USSSA-Joe Wilson
DESCRIPTION:
URL:https://www.dlcra.org/event/usssa-joe-wilson-5/
LOCATION:Southern Pines Regional Park\, 575 Southern Pines Rd.\, Dublin\, GA\, 31021\, United States
CATEGORIES:General Event
END:VEVENT
BEGIN:VEVENT
DTSTART;VALUE=DATE:20260509
DTEND;VALUE=DATE:20260510
DTSTAMP:20260419T094851
CREATED:20260219T131741Z
LAST-MODIFIED:20260219T131744Z
UID:6054-1778284800-1778371199@www.dlcra.org
SUMMARY:Perfect Game
DESCRIPTION:
URL:https://www.dlcra.org/event/perfect-game-31/
LOCATION:Southern Pines Regional Park\, 575 Southern Pines Rd.\, Dublin\, GA\, 31021\, United States
CATEGORIES:General Event
END:VEVENT
BEGIN:VEVENT
DTSTART;VALUE=DATE:20260509
DTEND;VALUE=DATE:20260510
DTSTAMP:20260419T094851
CREATED:20260408T125920Z
LAST-MODIFIED:20260408T125920Z
UID:6249-1778284800-1778371199@www.dlcra.org
SUMMARY:Legion Soccer Tournament
DESCRIPTION:
URL:https://www.dlcra.org/event/legion-soccer-tournament-2/
LOCATION:Southern Pines Regional Park\, 575 Southern Pines Rd.\, Dublin\, GA\, 31021\, United States
CATEGORIES:General Event
END:VEVENT
BEGIN:VEVENT
DTSTART;TZID=America/New_York:20260509T100000
DTEND;TZID=America/New_York:20260509T140000
DTSTAMP:20260419T094851
CREATED:20260408T130058Z
LAST-MODIFIED:20260408T130058Z
UID:6250-1778320800-1778335200@www.dlcra.org
SUMMARY:Mental Health Fair-Multipurpose Field
DESCRIPTION:
URL:https://www.dlcra.org/event/mental-health-fair-multipurpose-field/
LOCATION:Southern Pines Regional Park\, 575 Southern Pines Rd.\, Dublin\, GA\, 31021\, United States
CATEGORIES:General Event
END:VEVENT
BEGIN:VEVENT
DTSTART;VALUE=DATE:20260516
DTEND;VALUE=DATE:20260518
DTSTAMP:20260419T094851
CREATED:20260217T191248Z
LAST-MODIFIED:20260217T191323Z
UID:6045-1778889600-1779062399@www.dlcra.org
SUMMARY:Perfect Game
DESCRIPTION:
URL:https://www.dlcra.org/event/perfect-game-28/
LOCATION:Southern Pines Regional Park\, 575 Southern Pines Rd.\, Dublin\, GA\, 31021\, United States
CATEGORIES:General Event
END:VEVENT
BEGIN:VEVENT
DTSTART;VALUE=DATE:20260523
DTEND;VALUE=DATE:20260525
DTSTAMP:20260419T094851
CREATED:20260217T213358Z
LAST-MODIFIED:20260217T213401Z
UID:6048-1779494400-1779667199@www.dlcra.org
SUMMARY:USSSA-Baseball-Daryl Smith
DESCRIPTION:
URL:https://www.dlcra.org/event/usssa-baseball-daryl-smith-2/
LOCATION:Southern Pines Regional Park\, 575 Southern Pines Rd.\, Dublin\, GA\, 31021\, United States
CATEGORIES:General Event
END:VEVENT
BEGIN:VEVENT
DTSTART;VALUE=DATE:20260530
DTEND;VALUE=DATE:20260601
DTSTAMP:20260419T094851
CREATED:20260217T213435Z
LAST-MODIFIED:20260217T213439Z
UID:6049-1780099200-1780271999@www.dlcra.org
SUMMARY:Perfect Game
DESCRIPTION:
URL:https://www.dlcra.org/event/perfect-game-30/
LOCATION:Southern Pines Regional Park\, 575 Southern Pines Rd.\, Dublin\, GA\, 31021\, United States
CATEGORIES:General Event
END:VEVENT
BEGIN:VEVENT
DTSTART;VALUE=DATE:20260606
DTEND;VALUE=DATE:20260608
DTSTAMP:20260419T094851
CREATED:20260219T131929Z
LAST-MODIFIED:20260219T131934Z
UID:6055-1780704000-1780876799@www.dlcra.org
SUMMARY:Perfect Game-World Series
DESCRIPTION:
URL:https://www.dlcra.org/event/perfect-game-world-series/
LOCATION:Southern Pines Regional Park\, 575 Southern Pines Rd.\, Dublin\, GA\, 31021\, United States
CATEGORIES:General Event
END:VEVENT
BEGIN:VEVENT
DTSTART;VALUE=DATE:20260613
DTEND;VALUE=DATE:20260614
DTSTAMP:20260419T094851
CREATED:20260219T132319Z
LAST-MODIFIED:20260219T132321Z
UID:6057-1781308800-1781395199@www.dlcra.org
SUMMARY:NBHA District 05-Barrel Racing
DESCRIPTION:
URL:https://www.dlcra.org/event/nbha-district-05-barrel-racing/
LOCATION:Southern Pines Regional Park\, 575 Southern Pines Rd.\, Dublin\, GA\, 31021\, United States
CATEGORIES:General Event
END:VEVENT
BEGIN:VEVENT
DTSTART;VALUE=DATE:20260613
DTEND;VALUE=DATE:20260615
DTSTAMP:20260419T094851
CREATED:20260219T132351Z
LAST-MODIFIED:20260219T132602Z
UID:6058-1781308800-1781481599@www.dlcra.org
SUMMARY:USSSA-Joe Wilson
DESCRIPTION:
URL:https://www.dlcra.org/event/usssa-joe-wilson-6/
LOCATION:Southern Pines Regional Park\, 575 Southern Pines Rd.\, Dublin\, GA\, 31021\, United States
CATEGORIES:General Event
END:VEVENT
BEGIN:VEVENT
DTSTART;VALUE=DATE:20260618
DTEND;VALUE=DATE:20260622
DTSTAMP:20260419T094851
CREATED:20260219T132442Z
LAST-MODIFIED:20260219T132444Z
UID:6059-1781740800-1782086399@www.dlcra.org
SUMMARY:USSSA-World Series-Daryl Smith
DESCRIPTION:
URL:https://www.dlcra.org/event/usssa-world-series-daryl-smith/
LOCATION:Southern Pines Regional Park\, 575 Southern Pines Rd.\, Dublin\, GA\, 31021\, United States
CATEGORIES:General Event
END:VEVENT
BEGIN:VEVENT
DTSTART;VALUE=DATE:20260625
DTEND;VALUE=DATE:20260629
DTSTAMP:20260419T094851
CREATED:20260219T132521Z
LAST-MODIFIED:20260219T132524Z
UID:6060-1782345600-1782691199@www.dlcra.org
SUMMARY:Perfect Game-World Series
DESCRIPTION:
URL:https://www.dlcra.org/event/perfect-game-world-series-2/
LOCATION:Southern Pines Regional Park\, 575 Southern Pines Rd.\, Dublin\, GA\, 31021\, United States
CATEGORIES:General Event
END:VEVENT
END:VCALENDAR