BEGIN:VCALENDAR
VERSION:2.0
PRODID:-//Dublin-Laurens County Recreation Authority - ECPv6.15.20//NONSGML v1.0//EN
CALSCALE:GREGORIAN
METHOD:PUBLISH
X-ORIGINAL-URL:https://www.dlcra.org
X-WR-CALDESC:Events for Dublin-Laurens County Recreation Authority
REFRESH-INTERVAL;VALUE=DURATION:PT1H
X-Robots-Tag:noindex
X-PUBLISHED-TTL:PT1H
BEGIN:VTIMEZONE
TZID:America/New_York
BEGIN:DAYLIGHT
TZOFFSETFROM:-0500
TZOFFSETTO:-0400
TZNAME:EDT
DTSTART:20240310T070000
END:DAYLIGHT
BEGIN:STANDARD
TZOFFSETFROM:-0400
TZOFFSETTO:-0500
TZNAME:EST
DTSTART:20241103T060000
END:STANDARD
BEGIN:DAYLIGHT
TZOFFSETFROM:-0500
TZOFFSETTO:-0400
TZNAME:EDT
DTSTART:20250309T070000
END:DAYLIGHT
BEGIN:STANDARD
TZOFFSETFROM:-0400
TZOFFSETTO:-0500
TZNAME:EST
DTSTART:20251102T060000
END:STANDARD
BEGIN:DAYLIGHT
TZOFFSETFROM:-0500
TZOFFSETTO:-0400
TZNAME:EDT
DTSTART:20260308T070000
END:DAYLIGHT
BEGIN:STANDARD
TZOFFSETFROM:-0400
TZOFFSETTO:-0500
TZNAME:EST
DTSTART:20261101T060000
END:STANDARD
END:VTIMEZONE
BEGIN:VEVENT
DTSTART;VALUE=DATE:20251206
DTEND;VALUE=DATE:20251207
DTSTAMP:20260422T104210
CREATED:20250714T192128Z
LAST-MODIFIED:20251112T144922Z
UID:5655-1764979200-1765065599@www.dlcra.org
SUMMARY:USSSA/Softball/Joe Wilson
DESCRIPTION:
URL:https://www.dlcra.org/event/usssa-softball-7/
LOCATION:Southern Pines Regional Park\, 575 Southern Pines Rd.\, Dublin\, GA\, 31021\, United States
CATEGORIES:General Event
END:VEVENT
BEGIN:VEVENT
DTSTART;VALUE=DATE:20251213
DTEND;VALUE=DATE:20251215
DTSTAMP:20260422T104210
CREATED:20250714T192223Z
LAST-MODIFIED:20250714T192223Z
UID:5656-1765584000-1765756799@www.dlcra.org
SUMMARY:USSSA/Baseball
DESCRIPTION:
URL:https://www.dlcra.org/event/usssa-baseball-12/
LOCATION:Southern Pines Regional Park\, 575 Southern Pines Rd.\, Dublin\, GA\, 31021\, United States
CATEGORIES:General Event
END:VEVENT
BEGIN:VEVENT
DTSTART;TZID=America/New_York:20251219T173000
DTEND;TZID=America/New_York:20251219T173000
DTSTAMP:20260422T104210
CREATED:20251216T202800Z
LAST-MODIFIED:20251216T203150Z
UID:5911-1766165400-1766165400@www.dlcra.org
SUMMARY:Winter Break Kickoff
DESCRIPTION:https://l.facebook.com/l.php?u=https%3A%2F%2Fsecure.rec1.com%2FGA%2Fdublin-laurens-county-recreation%2Fcatalog%3Ffilter%3Dc2VhcmNoPTM5OTk1ODc%253D%26fbclid%3DIwZXh0bgNhZW0CMTAAYnJpZBExQ3NIeDhhdWN6ajM0b25ncXNydGMGYXBwX2lkEDIyMjAzOTE3ODgyMDA4OTIAAR6fVB8QExTXnhnKPWCPOV8BMSth1JlyetzEswOIU1JqBGlyx3_V2x5wX3Or6Q_aem_swapiau3gfR1exNyvIZlGg&h=AT15izFiyIwzEjvSOqMU3l6FKiHyjosYJvIy8KBMOmkAYCSyNVDJdahqpI6d5_-x05cFfH5roDkgn-mnJsSOyxlpV-g8Kew9OG0UD-TJdbjSqEsIqggDpfF13aSOOwtYZ-DojzwWEn-lYayw&__tn__=-UK-y-R&c[0]=AT0mJhvHmfIMv5m1-_APxTZzxLSRoqr1kK4f_d1VpnSgOP2XAcdfr0CCFeZxK5AobEl_KMnMS4AJulgEMvR10kGMpFiCKAyhs1UmAgcLwemSax52bJDaC-SNHzU14MrbiKikhPj0WTt9nmde_ISRlWSoeNwKjFTIEldtukEOoDYsDN3FWujozqFYL9CkTMwNlhBLPkHlte96SbBJlptJKA8HcWVnPym5iMEjIEdq-w
URL:https://www.dlcra.org/event/winter-break-kickoff/
LOCATION:Southern Pines Regional Park\, 575 Southern Pines Rd.\, Dublin\, GA\, 31021\, United States
CATEGORIES:Indoor Sports Complex
END:VEVENT
BEGIN:VEVENT
DTSTART;VALUE=DATE:20251220
DTEND;VALUE=DATE:20251221
DTSTAMP:20260422T104210
CREATED:20251217T162307Z
LAST-MODIFIED:20251217T162307Z
UID:5941-1766188800-1766275199@www.dlcra.org
SUMMARY:Men's Slow Pitch Tournament-Jesse Marks
DESCRIPTION:
URL:https://www.dlcra.org/event/mens-slow-pitch-tournament-jesse-marks/
LOCATION:Southern Pines Regional Park\, 575 Southern Pines Rd.\, Dublin\, GA\, 31021\, United States
CATEGORIES:General Event
END:VEVENT
END:VCALENDAR